BEGIN:VCALENDAR
VERSION:2.0
PRODID:-//Lokalavisen Faxe - ECPv6.15.20//NONSGML v1.0//EN
CALSCALE:GREGORIAN
METHOD:PUBLISH
X-ORIGINAL-URL:https://lokalavisenfaxe.dk
X-WR-CALDESC:Begivenheder for Lokalavisen Faxe
REFRESH-INTERVAL;VALUE=DURATION:PT1H
X-Robots-Tag:noindex
X-PUBLISHED-TTL:PT1H
BEGIN:VTIMEZONE
TZID:Europe/Copenhagen
BEGIN:DAYLIGHT
TZOFFSETFROM:+0100
TZOFFSETTO:+0200
TZNAME:CEST
DTSTART:20250330T010000
END:DAYLIGHT
BEGIN:STANDARD
TZOFFSETFROM:+0200
TZOFFSETTO:+0100
TZNAME:CET
DTSTART:20251026T010000
END:STANDARD
BEGIN:DAYLIGHT
TZOFFSETFROM:+0100
TZOFFSETTO:+0200
TZNAME:CEST
DTSTART:20260329T010000
END:DAYLIGHT
BEGIN:STANDARD
TZOFFSETFROM:+0200
TZOFFSETTO:+0100
TZNAME:CET
DTSTART:20261025T010000
END:STANDARD
BEGIN:DAYLIGHT
TZOFFSETFROM:+0100
TZOFFSETTO:+0200
TZNAME:CEST
DTSTART:20270328T010000
END:DAYLIGHT
BEGIN:STANDARD
TZOFFSETFROM:+0200
TZOFFSETTO:+0100
TZNAME:CET
DTSTART:20271031T010000
END:STANDARD
END:VTIMEZONE
BEGIN:VEVENT
DTSTART;TZID=Europe/Copenhagen:20260502T130000
DTEND;TZID=Europe/Copenhagen:20260502T150000
DTSTAMP:20260424T225502
CREATED:20260315T090447Z
LAST-MODIFIED:20260315T090447Z
UID:10001153-1777726800-1777734000@lokalavisenfaxe.dk
SUMMARY:Invitation til fernisering lørdag 2. maj kl. 13:00-15:00
DESCRIPTION:Det glæder os meget at invitere til fernisering i Galleri Fie Lei i anledning af åbningen af soloudstillingen af Morten Løfberg ‘Bølgens Erindring’. \nLørdag den 2. maj kl. 13.00-15.00. \nSoloudstilling ‘Bølgens Erindring’\nMorten Løfberg\nMellem gopler og bjergformationer åbner der sig et eksistentielt rum — et tomrum\, hvor vægtløse kroppe driver gennem stilheden\, og monolitter står samlet\, men alligevel isolerede. Løfbergs billedverden spejler en samtid præget af individualisering\, polarisering og illusionen om fællesskab. \nHans værker er skabt med kuglepen og blæk på flet af papirrester\, i et langsomt og næsten rituelt tempo. Hver streg bliver et vidnesbyrd om nærvær og fordybelse — en insisteren på det sanselige og det menneskelige i en tid der accelererer.\nPå afstand fremstår værkerne som sammenhængende helheder\, men tæt på opløses de i fragmenter — som et spejl af vores opsplittede verdensbillede\, men også som en mulighed: at helhed kan opstå\, netop gennem det fragmenterede. \nLøfberg er uddannet fra Grafisk Skole på Frederiksberg samt fra Danmarks Medie- og Journalisthøjskole i København. Han har speciale trykte medier\, herunder silketryk og kobbertryk. \nHan har udstillet bredt i gallerier og offentlige rum i Danmark samt internationalt\, herunder Dussmann KulturKaufhaus (Berlin)\, Nordic Makers (Dublin) og University of Havana (Cuba). I 2022 blev hans innovative brug af kuglepen fremhævet i Art & Design Fundamentals udgivet af Oxford University Press\, og han modtog desuden prisen “The Golden Pen” fra penproducenten BIC. \nTil ferniseringen vil musiker Naim Nafar skabe et improviseret ambient lydværk\, hvor rumklang\, publikums stemmer og elektroniske klange væves sammen. Lyden udfolder sig under det meste af åbningen som en stemning i rummet og kan opleves i samspil med udstillingens værker. \nFølgende arrangementer afholdes i forbindelse med udstillingen:\nTegneworkshop med Morten Løfberg\nSøndag den 17. maj fra kl. 13:00-15:00.\nBørn under 12 år i følge med en voksen. \nArtist talk og langbordsmiddag\nOnsdag d. 20. maj fra kl. 18:00-21:00. \nSkriv til kontakt@fielei.dk hvis du er interesseret i at tilmelde dig et eller begge arrangementer. \nVi glæder os til at dele denne udstilling med jer! \nGalleri Fie Lei\nSkovholmslundvej 2\, Haslev \nwww.fielei.dk
URL:https://lokalavisenfaxe.dk/event/invitation-til-fernisering-loerdag-2-maj-kl-1300-1500/
LOCATION:Galleri Fie Lei\, Skovholmslundsvej\, Haslev\, 4690
CATEGORIES:Fernisering,Kunstudstilling
ATTACH;FMTTYPE=image/jpeg:https://lokalavisenfaxe.dk/wp-content/uploads/2026/03/Goplernes_Himmelflugt_-_-.jpg
END:VEVENT
BEGIN:VEVENT
DTSTART;TZID=Europe/Copenhagen:20260520T180000
DTEND;TZID=Europe/Copenhagen:20260520T210000
DTSTAMP:20260424T225502
CREATED:20260416T115657Z
LAST-MODIFIED:20260416T115657Z
UID:10001172-1779300000-1779310800@lokalavisenfaxe.dk
SUMMARY:Artist talk med Morten Løfberg + langbordsmiddag i Galleri Fie Lei
DESCRIPTION:Artist talk med Morten Løfberg + langbordsmiddag i gallerietOnsdag d. 20. maj kl. 18:00–21:00 \nDeltagelse: 225 kr. \nVær med\, når udstillingen udfolder sig \nGalleri Fie Lei præsenterer soloudstillingen Bølgens Erindring af Morten Løfberg og inviterer i den forbindelse til en aften\, hvor du kommer tættere på både værkerne og tankerne bag. \nKom med til en stemningsfuld artist talk med Morten Løfberg\, hvor han fortæller om udstillingen\, værkerne og de idéer\, der ligger bag. Her får du et indblik i den proces og de refleksioner\, som ikke umiddelbart er synlige i udstillingsrummet. \nEfterfølgende dækker vi op til langbordsmiddag midt i udstillingen med middag og dessert – en uformel og nærværende mulighed for at opleve kunsten videre i godt selskab. \nTilmelding: skriv til Fie på kontakt@fielei.dk \nLæs mere om Morten Løfberg og se hans værker her. \nwww.fielei.dk
URL:https://lokalavisenfaxe.dk/event/artist-talk-med-morten-loefberg-langbordsmiddag-i-galleri-fie-lei/
LOCATION:Galleri Fie Lei\, Skovholmslundsvej\, Haslev\, 4690
CATEGORIES:Artist talk,Kunstudstilling,langbordsmiddag
ATTACH;FMTTYPE=image/jpeg:https://lokalavisenfaxe.dk/wp-content/uploads/2026/04/Fie-Lei-galleri-78.jpg
END:VEVENT
END:VCALENDAR