BEGIN:VCALENDAR
VERSION:2.0
PRODID:-//Lokalavisen Faxe - ECPv6.15.20//NONSGML v1.0//EN
CALSCALE:GREGORIAN
METHOD:PUBLISH
X-ORIGINAL-URL:https://lokalavisenfaxe.dk
X-WR-CALDESC:Begivenheder for Lokalavisen Faxe
REFRESH-INTERVAL;VALUE=DURATION:PT1H
X-Robots-Tag:noindex
X-PUBLISHED-TTL:PT1H
BEGIN:VTIMEZONE
TZID:Europe/Copenhagen
BEGIN:DAYLIGHT
TZOFFSETFROM:+0100
TZOFFSETTO:+0200
TZNAME:CEST
DTSTART:20250330T010000
END:DAYLIGHT
BEGIN:STANDARD
TZOFFSETFROM:+0200
TZOFFSETTO:+0100
TZNAME:CET
DTSTART:20251026T010000
END:STANDARD
BEGIN:DAYLIGHT
TZOFFSETFROM:+0100
TZOFFSETTO:+0200
TZNAME:CEST
DTSTART:20260329T010000
END:DAYLIGHT
BEGIN:STANDARD
TZOFFSETFROM:+0200
TZOFFSETTO:+0100
TZNAME:CET
DTSTART:20261025T010000
END:STANDARD
BEGIN:DAYLIGHT
TZOFFSETFROM:+0100
TZOFFSETTO:+0200
TZNAME:CEST
DTSTART:20270328T010000
END:DAYLIGHT
BEGIN:STANDARD
TZOFFSETFROM:+0200
TZOFFSETTO:+0100
TZNAME:CET
DTSTART:20271031T010000
END:STANDARD
END:VTIMEZONE
BEGIN:VEVENT
DTSTART;TZID=Europe/Copenhagen:20260501T110000
DTEND;TZID=Europe/Copenhagen:20260501T180000
DTSTAMP:20260424T225514
CREATED:20260417T090311Z
LAST-MODIFIED:20260417T090311Z
UID:10001174-1777633200-1777658400@lokalavisenfaxe.dk
SUMMARY:Warhammer Workshop - GRATIS
DESCRIPTION:  \nKom til Warhammer-workshop i DOS e-sport på Børnenes Dag\, 1. maj kl. 11-18. Der vil også være malekonkurrence og fede Warhammer-præmier 🥇 \nGRATIS OG ÅBENT FOR ALLE \nHusk\, at vi er flyttet fra Vestergade til nye\, fede lokaler på Jernbanegade 56 😎 \nVi glæder os til og se jer! \nGamer-hilsner fra alle os i DOS e-sport 🎮
URL:https://lokalavisenfaxe.dk/event/warhammer-workshop-gratis/
LOCATION:DOS e-sport\, Jernbanegade 56\, Haslev\, 4690
CATEGORIES:Workshop
ATTACH;FMTTYPE=image/png:https://lokalavisenfaxe.dk/wp-content/uploads/2026/04/Warhammer-malekonkurrence-1-maj-2.png
END:VEVENT
END:VCALENDAR