BEGIN:VCALENDAR
VERSION:2.0
PRODID:-//Lokalavisen Faxe - ECPv6.15.20//NONSGML v1.0//EN
CALSCALE:GREGORIAN
METHOD:PUBLISH
X-ORIGINAL-URL:https://lokalavisenfaxe.dk
X-WR-CALDESC:Begivenheder for Lokalavisen Faxe
REFRESH-INTERVAL;VALUE=DURATION:PT1H
X-Robots-Tag:noindex
X-PUBLISHED-TTL:PT1H
BEGIN:VTIMEZONE
TZID:Europe/Copenhagen
BEGIN:DAYLIGHT
TZOFFSETFROM:+0100
TZOFFSETTO:+0200
TZNAME:CEST
DTSTART:20250330T010000
END:DAYLIGHT
BEGIN:STANDARD
TZOFFSETFROM:+0200
TZOFFSETTO:+0100
TZNAME:CET
DTSTART:20251026T010000
END:STANDARD
BEGIN:DAYLIGHT
TZOFFSETFROM:+0100
TZOFFSETTO:+0200
TZNAME:CEST
DTSTART:20260329T010000
END:DAYLIGHT
BEGIN:STANDARD
TZOFFSETFROM:+0200
TZOFFSETTO:+0100
TZNAME:CET
DTSTART:20261025T010000
END:STANDARD
BEGIN:DAYLIGHT
TZOFFSETFROM:+0100
TZOFFSETTO:+0200
TZNAME:CEST
DTSTART:20270328T010000
END:DAYLIGHT
BEGIN:STANDARD
TZOFFSETFROM:+0200
TZOFFSETTO:+0100
TZNAME:CET
DTSTART:20271031T010000
END:STANDARD
END:VTIMEZONE
BEGIN:VEVENT
DTSTART;TZID=Europe/Copenhagen:20260403T103000
DTEND;TZID=Europe/Copenhagen:20260403T113000
DTSTAMP:20260425T043133
CREATED:20260319T141550Z
LAST-MODIFIED:20260319T141550Z
UID:10001160-1775212200-1775215800@lokalavisenfaxe.dk
SUMMARY:Gudstjeneste i Hylleholt Kirke
DESCRIPTION:(Langfredag) ved Erik Grønvall Kempfner i Hylleholt Kirke. \nFredag 3. april klokken 10.30 \nLangfredag mindes vi med en stille gudstjeneste\, uden nadver\, Jesu død og korsfæstelse.  \nGennem sang og læsninger bevæger vi os gennem lidelseshistorien.  \nDet vil være en liturgisk og meditativ gudstjeneste.
URL:https://lokalavisenfaxe.dk/event/gudstjeneste-i-hylleholt-kirke/
LOCATION:Hylleholt Kirke\, Hovedgaden 13\, Faxe Ladeplads\, 4654\, Denmark
CATEGORIES:Gudstjeneste
ATTACH;FMTTYPE=image/png:https://lokalavisenfaxe.dk/wp-content/uploads/2026/03/paaske-.png
END:VEVENT
END:VCALENDAR