BEGIN:VCALENDAR
VERSION:2.0
PRODID:-//Lokalavisen Faxe - ECPv6.15.20//NONSGML v1.0//EN
CALSCALE:GREGORIAN
METHOD:PUBLISH
X-WR-CALNAME:Lokalavisen Faxe
X-ORIGINAL-URL:https://lokalavisenfaxe.dk
X-WR-CALDESC:Begivenheder for Lokalavisen Faxe
REFRESH-INTERVAL;VALUE=DURATION:PT1H
X-Robots-Tag:noindex
X-PUBLISHED-TTL:PT1H
BEGIN:VTIMEZONE
TZID:Europe/Copenhagen
BEGIN:DAYLIGHT
TZOFFSETFROM:+0100
TZOFFSETTO:+0200
TZNAME:CEST
DTSTART:20250330T010000
END:DAYLIGHT
BEGIN:STANDARD
TZOFFSETFROM:+0200
TZOFFSETTO:+0100
TZNAME:CET
DTSTART:20251026T010000
END:STANDARD
BEGIN:DAYLIGHT
TZOFFSETFROM:+0100
TZOFFSETTO:+0200
TZNAME:CEST
DTSTART:20260329T010000
END:DAYLIGHT
BEGIN:STANDARD
TZOFFSETFROM:+0200
TZOFFSETTO:+0100
TZNAME:CET
DTSTART:20261025T010000
END:STANDARD
BEGIN:DAYLIGHT
TZOFFSETFROM:+0100
TZOFFSETTO:+0200
TZNAME:CEST
DTSTART:20270328T010000
END:DAYLIGHT
BEGIN:STANDARD
TZOFFSETFROM:+0200
TZOFFSETTO:+0100
TZNAME:CET
DTSTART:20271031T010000
END:STANDARD
END:VTIMEZONE
BEGIN:VEVENT
DTSTART;TZID=Europe/Copenhagen:20260402T103000
DTEND;TZID=Europe/Copenhagen:20260402T113000
DTSTAMP:20260424T205423
CREATED:20260319T141258Z
LAST-MODIFIED:20260319T141258Z
UID:10001159-1775125800-1775129400@lokalavisenfaxe.dk
SUMMARY:Gudstjeneste med fællesspisning - Hylleholt
DESCRIPTION:(Skærtorsdag) ved Erik Grønvall Kempfner i Hylleholt Kirke \nTorsdag 2. april klokken 10.30 \n\nDer indbydes til FÆLLESSPISNING i Sognehuset\, hvor alle er velkomne.  \nAf hensyn til beværtning bedes man tilmelde sig senest mandag den 23. marts til vores kordegn på tlf. 56 71 60 83 / 40 38 85 78 eller mail: bkl@km.dk.  \nPris for mad: 50\,- Børn under 12 er gratis. Kr. 10\,- for drikkevarer.  \n 
URL:https://lokalavisenfaxe.dk/event/gudstjeneste-med-faellesspisning-hylleholt/
LOCATION:Hylleholt Kirke\, Hovedgaden 13\, Faxe Ladeplads\, 4654\, Denmark
CATEGORIES:Gudstjeneste
ATTACH;FMTTYPE=image/jpeg:https://lokalavisenfaxe.dk/wp-content/uploads/2026/03/foraar_DSC0244-scaled.jpg
END:VEVENT
END:VCALENDAR