BEGIN:VCALENDAR
VERSION:2.0
PRODID:-//Lokalavisen Faxe - ECPv6.15.20//NONSGML v1.0//EN
CALSCALE:GREGORIAN
METHOD:PUBLISH
X-ORIGINAL-URL:https://lokalavisenfaxe.dk
X-WR-CALDESC:Begivenheder for Lokalavisen Faxe
REFRESH-INTERVAL;VALUE=DURATION:PT1H
X-Robots-Tag:noindex
X-PUBLISHED-TTL:PT1H
BEGIN:VTIMEZONE
TZID:Europe/Copenhagen
BEGIN:DAYLIGHT
TZOFFSETFROM:+0100
TZOFFSETTO:+0200
TZNAME:CEST
DTSTART:20250330T010000
END:DAYLIGHT
BEGIN:STANDARD
TZOFFSETFROM:+0200
TZOFFSETTO:+0100
TZNAME:CET
DTSTART:20251026T010000
END:STANDARD
BEGIN:DAYLIGHT
TZOFFSETFROM:+0100
TZOFFSETTO:+0200
TZNAME:CEST
DTSTART:20260329T010000
END:DAYLIGHT
BEGIN:STANDARD
TZOFFSETFROM:+0200
TZOFFSETTO:+0100
TZNAME:CET
DTSTART:20261025T010000
END:STANDARD
BEGIN:DAYLIGHT
TZOFFSETFROM:+0100
TZOFFSETTO:+0200
TZNAME:CEST
DTSTART:20270328T010000
END:DAYLIGHT
BEGIN:STANDARD
TZOFFSETFROM:+0200
TZOFFSETTO:+0100
TZNAME:CET
DTSTART:20271031T010000
END:STANDARD
END:VTIMEZONE
BEGIN:VEVENT
DTSTART;TZID=Europe/Copenhagen:20260517T090000
DTEND;TZID=Europe/Copenhagen:20260517T140000
DTSTAMP:20260426T000318
CREATED:20260225T103856Z
LAST-MODIFIED:20260225T103856Z
UID:10001140-1779008400-1779026400@lokalavisenfaxe.dk
SUMMARY:Helteløbet - Søndag 17. maj 2026
DESCRIPTION:Start og mål : Dyssevej 1a\, Førslev\, 4690 Haslev\n\n\n\n\n\n\n\n\nGiv den gas som vaskeægte superhelt til Helteløbet i Haslev. \nSøndag d. 17. maj afholder vi sammen med Team Førslev Motion et vaskeægte Helteløb.  \nHelteløbet er et løb\, hvor hele familien kan snøre løbeskoene og tage udfordringen op! Med fire forskellige distancer at vælge imellem er der noget for både de små og store helte. Jeg kan kaste jer ud i den hurtige 1\,6 km (one mile)\, teste formen på 5\,7 km\, tage kampen op mod 10\,6 km eller gå all in med et halvmaraton på 21\,0975 km.  \nNår jeg løber med til Helteløbet\, er jeg samtidig med til at gøre en forskel for indlagte børn i Danmark. Ved at deltage i Helteløbet støtter I nemlig Legeheltene\, som sætter gang i sjov\, leg og bevægelse på de danske børneafdelinger. \nAlle deltagere\, store som små og uanset distance\, vil forud for løbet blive forvandlet til superhelte med heltekappe\, heltemaske og løbsnummer og så er der selvfølgelig fine diplomer og medaljer til alle seje helteløbere\, når målstregen krydses. \nHeltekapper og masker kommer i fem forskellige farver og må selvfølgelig tages med hjem efter løbet\, så legen kan forsætte. Vælg din farve på din heltekappe\, når du tilmelder dig Helteløbet. \nDet koster 145 kr. at deltage. Heraf går 135 kroner til Børneulykkesfonden og Legeheltebesøg på børneafdelingerne\, hvor de dagligt skaber energi og glæde. Prisen er inkl.  heltekappe\, heltemaske og løbsnummer og så er der selvfølgelig fine diplomer og medaljer til alle seje helteløbere\, når målstregen krydses. \nProgram: \nfra Kl. 08.00 – 09.00 : Afhentning af løbenumre\nKl. 09.00: Halvmaraton skydes i gang \nKl. 09.50: Opvarmning\nKl. 10.00: Løbere på distancerne 1\,6 km.\, 5\,7 km. og 10\,6 km. sendes afsted\nKl. 14.00: Løbet slutter \nOverskuddet går til Legeheltene\nAlle børn har ret til et liv med leg og bevægelse. Det gælder også børn\, der er ramt af sygdom. Når du deltager i Helteløbet\, støtter du derfor Børneulykkesfondens Legehelte\, som arbejder for at skabe mere leg og bevægelse for de ca. 60.000 børn\, der hvert år indlægges i Danmark. \nArrangøren oplyser \nVi gør opmærksom på\, at der på dagen bliver taget billeder til brug på Børneulykkesfondens og Team Førslev Motions kanaler.
URL:https://lokalavisenfaxe.dk/event/helteloebet-soendag-17-maj-2026/
LOCATION:Førslev\, Dyssevej 4\, Førslev\, 4690
CATEGORIES:Motionsløb
ATTACH;FMTTYPE=image/png:https://lokalavisenfaxe.dk/wp-content/uploads/2026/02/legeheltemedalje.png
END:VEVENT
BEGIN:VEVENT
DTSTART;TZID=Europe/Copenhagen:20260621T090000
DTEND;TZID=Europe/Copenhagen:20260621T140000
DTSTAMP:20260426T000318
CREATED:20260410T092857Z
LAST-MODIFIED:20260410T092857Z
UID:10001169-1782032400-1782050400@lokalavisenfaxe.dk
SUMMARY:Pandekageløbet søndag 21 juni
DESCRIPTION:Pandekageløbet –\nSøndag d. 21. juni 2026\n\n\n\n\n\n\n\n\nStart og mål : Dyssevej 1a\, Førslev\, 4690 Haslev\nStart kl. 09.00 for halvmaraton\nOBS der løbes 3 x 7 km (info kl. 8.50) \nStart kl. 10.00 for alle andre distancer :\n(14\,2 km – 1 mile) (info kl. 09.55)\nBørn under 12 år skal følges med en voksen på hele ruten. \n\n\n\n\n\n\nRuten er afmærket\, og løbes efter cannonball princippet. \nHver deltager er selv ansvarlig for at tage tid\, og at få sin egen tid noteret i løbsprotokollen ved mål. Du bestemmer selv om du vil gå eller løbe turen. (Dog er tidsgrænsen på max 4 timer fra første start) \nStart og mål: \nDyssevej 1a\, Førslev\, 4690 Haslev. Masser af gratis p-pladser lige ved start/mål.  \nDer er 2 toiletter og der vil være mulighed for omklædning.  \nDistancer:  \nHalvmaraton (3 x 7)(distance trykt på bånd) \n7\,1 km (distance på båndet) \n5\,7 km (distance på båndet) \n1\,6 km (1 mile)(distance på båndet) \nMan kan løbe flere runder på distancerne og evt. kombinere dem. \n7 km rute\, løbes 3 omgange til halvmaraton\, er opmålt af autoriseret opmåler\, og tæller selvfølgelig med i klub100. \nForplejning : \nDer vil være stort depot med forskellige drikkevarer\, sødt og salt til alle når man passerer start/mål området. \nDer vil hvis det er varmt\, også være 1 yderligere væske depot på 7 km ruten. \nDer vil være 1 flaske vand\, og et stykke frugt til alle i mål. Samt selvfølgelig lune lækre nybagte pandekager fra en food truck\, med div. toppings og kaffe/the. \nTilmelding : \nVia vores hjemmeside eller send en mail på teamforslevmotion@gmail.com hvor du skriver dit fulde navn\, distance\, samt om du ønsker medalje. OBS sidste tilmedling inkl. special pandekageløbetmedalje er d. 14/6 kl. 20.00 \nOBS pga. pandekagevognen er der begrænset antal pladser til dette løb. \nEftertilmelding er muligt med vores Førslev medalje\, som selvfølgelig også er i stål. Ved tilmelding den sidste uge op til løbet\, ring eller sms på 42448154 \nPris: \n200 kr. inkl. medalje i stål \n(da vi har bestilt en food truck til at bage lækre friskbagte pandekager med en masse forskellig toppings er prisen lidt højere end vores normale løb) \n125 kr. uden medalje  \nBeløbet indbetaltes på mobilpay samme dag som tilmelding tak  \nMobilepay nr. 2596AE \n\n\n\n\n\n\n\n\n10 kr. pr. deltager bliver doneret til Knæk Cancer
URL:https://lokalavisenfaxe.dk/event/pandekageloebet-soendag-21-juni/
LOCATION:Dyssevej\, Dyssevej 4\, Førslev\, 4690\, Denmark
CATEGORIES:Motionsløb
ATTACH;FMTTYPE=image/jpeg:https://lokalavisenfaxe.dk/wp-content/uploads/2026/04/pexels-filirovska-8251069.jpg
END:VEVENT
END:VCALENDAR