BEGIN:VCALENDAR
VERSION:2.0
PRODID:-//Lokalavisen Faxe - ECPv6.15.20//NONSGML v1.0//EN
CALSCALE:GREGORIAN
METHOD:PUBLISH
X-ORIGINAL-URL:https://lokalavisenfaxe.dk
X-WR-CALDESC:Begivenheder for Lokalavisen Faxe
REFRESH-INTERVAL;VALUE=DURATION:PT1H
X-Robots-Tag:noindex
X-PUBLISHED-TTL:PT1H
BEGIN:VTIMEZONE
TZID:Europe/Copenhagen
BEGIN:DAYLIGHT
TZOFFSETFROM:+0100
TZOFFSETTO:+0200
TZNAME:CEST
DTSTART:20250330T010000
END:DAYLIGHT
BEGIN:STANDARD
TZOFFSETFROM:+0200
TZOFFSETTO:+0100
TZNAME:CET
DTSTART:20251026T010000
END:STANDARD
BEGIN:DAYLIGHT
TZOFFSETFROM:+0100
TZOFFSETTO:+0200
TZNAME:CEST
DTSTART:20260329T010000
END:DAYLIGHT
BEGIN:STANDARD
TZOFFSETFROM:+0200
TZOFFSETTO:+0100
TZNAME:CET
DTSTART:20261025T010000
END:STANDARD
BEGIN:DAYLIGHT
TZOFFSETFROM:+0100
TZOFFSETTO:+0200
TZNAME:CEST
DTSTART:20270328T010000
END:DAYLIGHT
BEGIN:STANDARD
TZOFFSETFROM:+0200
TZOFFSETTO:+0100
TZNAME:CET
DTSTART:20271031T010000
END:STANDARD
END:VTIMEZONE
BEGIN:VEVENT
DTSTART;TZID=Europe/Copenhagen:20260427T190000
DTEND;TZID=Europe/Copenhagen:20260427T213000
DTSTAMP:20260424T225505
CREATED:20260113T091345Z
LAST-MODIFIED:20260113T105342Z
UID:10000833-1777316400-1777325400@lokalavisenfaxe.dk
SUMMARY:Banko i Dalby Forsamlingshus
DESCRIPTION:Hver mandag klokken 19 \nBanko i Dalby Forsamlingshus \nDørene åbner klokken 17.30 \n\nDer kan købes drikkevarer og noget “let” at spise.\n\nDer betales med kontanter.\n\nMan kan bestille bord ved sms på 2010 8637
URL:https://lokalavisenfaxe.dk/event/banko-i-dalby-forsamlingshus/2026-04-27/
LOCATION:Dalby Forsamlingshus\, Karisevej 66\, Dalby\, 4690
CATEGORIES:Banko
ATTACH;FMTTYPE=image/png:https://lokalavisenfaxe.dk/wp-content/uploads/2026/01/Skaermbillede-2026-01-13-100814.png
END:VEVENT
BEGIN:VEVENT
DTSTART;TZID=Europe/Copenhagen:20260504T190000
DTEND;TZID=Europe/Copenhagen:20260504T213000
DTSTAMP:20260424T225505
CREATED:20260113T091345Z
LAST-MODIFIED:20260113T105342Z
UID:10000834-1777921200-1777930200@lokalavisenfaxe.dk
SUMMARY:Banko i Dalby Forsamlingshus
DESCRIPTION:Hver mandag klokken 19 \nBanko i Dalby Forsamlingshus \nDørene åbner klokken 17.30 \n\nDer kan købes drikkevarer og noget “let” at spise.\n\nDer betales med kontanter.\n\nMan kan bestille bord ved sms på 2010 8637
URL:https://lokalavisenfaxe.dk/event/banko-i-dalby-forsamlingshus/2026-05-04/
LOCATION:Dalby Forsamlingshus\, Karisevej 66\, Dalby\, 4690
CATEGORIES:Banko
ATTACH;FMTTYPE=image/png:https://lokalavisenfaxe.dk/wp-content/uploads/2026/01/Skaermbillede-2026-01-13-100814.png
END:VEVENT
BEGIN:VEVENT
DTSTART;TZID=Europe/Copenhagen:20260511T190000
DTEND;TZID=Europe/Copenhagen:20260511T213000
DTSTAMP:20260424T225505
CREATED:20260113T091345Z
LAST-MODIFIED:20260113T105342Z
UID:10000835-1778526000-1778535000@lokalavisenfaxe.dk
SUMMARY:Banko i Dalby Forsamlingshus
DESCRIPTION:Hver mandag klokken 19 \nBanko i Dalby Forsamlingshus \nDørene åbner klokken 17.30 \n\nDer kan købes drikkevarer og noget “let” at spise.\n\nDer betales med kontanter.\n\nMan kan bestille bord ved sms på 2010 8637
URL:https://lokalavisenfaxe.dk/event/banko-i-dalby-forsamlingshus/2026-05-11/
LOCATION:Dalby Forsamlingshus\, Karisevej 66\, Dalby\, 4690
CATEGORIES:Banko
ATTACH;FMTTYPE=image/png:https://lokalavisenfaxe.dk/wp-content/uploads/2026/01/Skaermbillede-2026-01-13-100814.png
END:VEVENT
BEGIN:VEVENT
DTSTART;TZID=Europe/Copenhagen:20260518T190000
DTEND;TZID=Europe/Copenhagen:20260518T213000
DTSTAMP:20260424T225505
CREATED:20260113T091345Z
LAST-MODIFIED:20260113T105342Z
UID:10000836-1779130800-1779139800@lokalavisenfaxe.dk
SUMMARY:Banko i Dalby Forsamlingshus
DESCRIPTION:Hver mandag klokken 19 \nBanko i Dalby Forsamlingshus \nDørene åbner klokken 17.30 \n\nDer kan købes drikkevarer og noget “let” at spise.\n\nDer betales med kontanter.\n\nMan kan bestille bord ved sms på 2010 8637
URL:https://lokalavisenfaxe.dk/event/banko-i-dalby-forsamlingshus/2026-05-18/
LOCATION:Dalby Forsamlingshus\, Karisevej 66\, Dalby\, 4690
CATEGORIES:Banko
ATTACH;FMTTYPE=image/png:https://lokalavisenfaxe.dk/wp-content/uploads/2026/01/Skaermbillede-2026-01-13-100814.png
END:VEVENT
BEGIN:VEVENT
DTSTART;TZID=Europe/Copenhagen:20260525T190000
DTEND;TZID=Europe/Copenhagen:20260525T213000
DTSTAMP:20260424T225505
CREATED:20260113T091345Z
LAST-MODIFIED:20260113T105342Z
UID:10000837-1779735600-1779744600@lokalavisenfaxe.dk
SUMMARY:Banko i Dalby Forsamlingshus
DESCRIPTION:Hver mandag klokken 19 \nBanko i Dalby Forsamlingshus \nDørene åbner klokken 17.30 \n\nDer kan købes drikkevarer og noget “let” at spise.\n\nDer betales med kontanter.\n\nMan kan bestille bord ved sms på 2010 8637
URL:https://lokalavisenfaxe.dk/event/banko-i-dalby-forsamlingshus/2026-05-25/
LOCATION:Dalby Forsamlingshus\, Karisevej 66\, Dalby\, 4690
CATEGORIES:Banko
ATTACH;FMTTYPE=image/png:https://lokalavisenfaxe.dk/wp-content/uploads/2026/01/Skaermbillede-2026-01-13-100814.png
END:VEVENT
BEGIN:VEVENT
DTSTART;TZID=Europe/Copenhagen:20260601T190000
DTEND;TZID=Europe/Copenhagen:20260601T213000
DTSTAMP:20260424T225505
CREATED:20260113T091345Z
LAST-MODIFIED:20260113T105342Z
UID:10000838-1780340400-1780349400@lokalavisenfaxe.dk
SUMMARY:Banko i Dalby Forsamlingshus
DESCRIPTION:Hver mandag klokken 19 \nBanko i Dalby Forsamlingshus \nDørene åbner klokken 17.30 \n\nDer kan købes drikkevarer og noget “let” at spise.\n\nDer betales med kontanter.\n\nMan kan bestille bord ved sms på 2010 8637
URL:https://lokalavisenfaxe.dk/event/banko-i-dalby-forsamlingshus/2026-06-01/
LOCATION:Dalby Forsamlingshus\, Karisevej 66\, Dalby\, 4690
CATEGORIES:Banko
ATTACH;FMTTYPE=image/png:https://lokalavisenfaxe.dk/wp-content/uploads/2026/01/Skaermbillede-2026-01-13-100814.png
END:VEVENT
BEGIN:VEVENT
DTSTART;TZID=Europe/Copenhagen:20260608T190000
DTEND;TZID=Europe/Copenhagen:20260608T213000
DTSTAMP:20260424T225505
CREATED:20260113T091345Z
LAST-MODIFIED:20260113T105342Z
UID:10000839-1780945200-1780954200@lokalavisenfaxe.dk
SUMMARY:Banko i Dalby Forsamlingshus
DESCRIPTION:Hver mandag klokken 19 \nBanko i Dalby Forsamlingshus \nDørene åbner klokken 17.30 \n\nDer kan købes drikkevarer og noget “let” at spise.\n\nDer betales med kontanter.\n\nMan kan bestille bord ved sms på 2010 8637
URL:https://lokalavisenfaxe.dk/event/banko-i-dalby-forsamlingshus/2026-06-08/
LOCATION:Dalby Forsamlingshus\, Karisevej 66\, Dalby\, 4690
CATEGORIES:Banko
ATTACH;FMTTYPE=image/png:https://lokalavisenfaxe.dk/wp-content/uploads/2026/01/Skaermbillede-2026-01-13-100814.png
END:VEVENT
BEGIN:VEVENT
DTSTART;TZID=Europe/Copenhagen:20260615T190000
DTEND;TZID=Europe/Copenhagen:20260615T213000
DTSTAMP:20260424T225505
CREATED:20260113T091345Z
LAST-MODIFIED:20260113T105342Z
UID:10000840-1781550000-1781559000@lokalavisenfaxe.dk
SUMMARY:Banko i Dalby Forsamlingshus
DESCRIPTION:Hver mandag klokken 19 \nBanko i Dalby Forsamlingshus \nDørene åbner klokken 17.30 \n\nDer kan købes drikkevarer og noget “let” at spise.\n\nDer betales med kontanter.\n\nMan kan bestille bord ved sms på 2010 8637
URL:https://lokalavisenfaxe.dk/event/banko-i-dalby-forsamlingshus/2026-06-15/
LOCATION:Dalby Forsamlingshus\, Karisevej 66\, Dalby\, 4690
CATEGORIES:Banko
ATTACH;FMTTYPE=image/png:https://lokalavisenfaxe.dk/wp-content/uploads/2026/01/Skaermbillede-2026-01-13-100814.png
END:VEVENT
BEGIN:VEVENT
DTSTART;TZID=Europe/Copenhagen:20260622T190000
DTEND;TZID=Europe/Copenhagen:20260622T213000
DTSTAMP:20260424T225505
CREATED:20260113T091345Z
LAST-MODIFIED:20260113T105342Z
UID:10000841-1782154800-1782163800@lokalavisenfaxe.dk
SUMMARY:Banko i Dalby Forsamlingshus
DESCRIPTION:Hver mandag klokken 19 \nBanko i Dalby Forsamlingshus \nDørene åbner klokken 17.30 \n\nDer kan købes drikkevarer og noget “let” at spise.\n\nDer betales med kontanter.\n\nMan kan bestille bord ved sms på 2010 8637
URL:https://lokalavisenfaxe.dk/event/banko-i-dalby-forsamlingshus/2026-06-22/
LOCATION:Dalby Forsamlingshus\, Karisevej 66\, Dalby\, 4690
CATEGORIES:Banko
ATTACH;FMTTYPE=image/png:https://lokalavisenfaxe.dk/wp-content/uploads/2026/01/Skaermbillede-2026-01-13-100814.png
END:VEVENT
BEGIN:VEVENT
DTSTART;TZID=Europe/Copenhagen:20260629T190000
DTEND;TZID=Europe/Copenhagen:20260629T213000
DTSTAMP:20260424T225505
CREATED:20260113T091345Z
LAST-MODIFIED:20260113T105342Z
UID:10000842-1782759600-1782768600@lokalavisenfaxe.dk
SUMMARY:Banko i Dalby Forsamlingshus
DESCRIPTION:Hver mandag klokken 19 \nBanko i Dalby Forsamlingshus \nDørene åbner klokken 17.30 \n\nDer kan købes drikkevarer og noget “let” at spise.\n\nDer betales med kontanter.\n\nMan kan bestille bord ved sms på 2010 8637
URL:https://lokalavisenfaxe.dk/event/banko-i-dalby-forsamlingshus/2026-06-29/
LOCATION:Dalby Forsamlingshus\, Karisevej 66\, Dalby\, 4690
CATEGORIES:Banko
ATTACH;FMTTYPE=image/png:https://lokalavisenfaxe.dk/wp-content/uploads/2026/01/Skaermbillede-2026-01-13-100814.png
END:VEVENT
BEGIN:VEVENT
DTSTART;TZID=Europe/Copenhagen:20260706T190000
DTEND;TZID=Europe/Copenhagen:20260706T213000
DTSTAMP:20260424T225505
CREATED:20260113T091345Z
LAST-MODIFIED:20260113T105342Z
UID:10000848-1783364400-1783373400@lokalavisenfaxe.dk
SUMMARY:Banko i Dalby Forsamlingshus
DESCRIPTION:Hver mandag klokken 19 \nBanko i Dalby Forsamlingshus \nDørene åbner klokken 17.30 \n\nDer kan købes drikkevarer og noget “let” at spise.\n\nDer betales med kontanter.\n\nMan kan bestille bord ved sms på 2010 8637
URL:https://lokalavisenfaxe.dk/event/banko-i-dalby-forsamlingshus/2026-07-06/
LOCATION:Dalby Forsamlingshus\, Karisevej 66\, Dalby\, 4690
CATEGORIES:Banko
ATTACH;FMTTYPE=image/png:https://lokalavisenfaxe.dk/wp-content/uploads/2026/01/Skaermbillede-2026-01-13-100814.png
END:VEVENT
BEGIN:VEVENT
DTSTART;TZID=Europe/Copenhagen:20260713T190000
DTEND;TZID=Europe/Copenhagen:20260713T213000
DTSTAMP:20260424T225505
CREATED:20260113T091345Z
LAST-MODIFIED:20260113T105342Z
UID:10000849-1783969200-1783978200@lokalavisenfaxe.dk
SUMMARY:Banko i Dalby Forsamlingshus
DESCRIPTION:Hver mandag klokken 19 \nBanko i Dalby Forsamlingshus \nDørene åbner klokken 17.30 \n\nDer kan købes drikkevarer og noget “let” at spise.\n\nDer betales med kontanter.\n\nMan kan bestille bord ved sms på 2010 8637
URL:https://lokalavisenfaxe.dk/event/banko-i-dalby-forsamlingshus/2026-07-13/
LOCATION:Dalby Forsamlingshus\, Karisevej 66\, Dalby\, 4690
CATEGORIES:Banko
ATTACH;FMTTYPE=image/png:https://lokalavisenfaxe.dk/wp-content/uploads/2026/01/Skaermbillede-2026-01-13-100814.png
END:VEVENT
BEGIN:VEVENT
DTSTART;TZID=Europe/Copenhagen:20260720T190000
DTEND;TZID=Europe/Copenhagen:20260720T213000
DTSTAMP:20260424T225505
CREATED:20260113T091345Z
LAST-MODIFIED:20260113T105342Z
UID:10000850-1784574000-1784583000@lokalavisenfaxe.dk
SUMMARY:Banko i Dalby Forsamlingshus
DESCRIPTION:Hver mandag klokken 19 \nBanko i Dalby Forsamlingshus \nDørene åbner klokken 17.30 \n\nDer kan købes drikkevarer og noget “let” at spise.\n\nDer betales med kontanter.\n\nMan kan bestille bord ved sms på 2010 8637
URL:https://lokalavisenfaxe.dk/event/banko-i-dalby-forsamlingshus/2026-07-20/
LOCATION:Dalby Forsamlingshus\, Karisevej 66\, Dalby\, 4690
CATEGORIES:Banko
ATTACH;FMTTYPE=image/png:https://lokalavisenfaxe.dk/wp-content/uploads/2026/01/Skaermbillede-2026-01-13-100814.png
END:VEVENT
BEGIN:VEVENT
DTSTART;TZID=Europe/Copenhagen:20260727T190000
DTEND;TZID=Europe/Copenhagen:20260727T213000
DTSTAMP:20260424T225505
CREATED:20260113T091345Z
LAST-MODIFIED:20260113T105342Z
UID:10000851-1785178800-1785187800@lokalavisenfaxe.dk
SUMMARY:Banko i Dalby Forsamlingshus
DESCRIPTION:Hver mandag klokken 19 \nBanko i Dalby Forsamlingshus \nDørene åbner klokken 17.30 \n\nDer kan købes drikkevarer og noget “let” at spise.\n\nDer betales med kontanter.\n\nMan kan bestille bord ved sms på 2010 8637
URL:https://lokalavisenfaxe.dk/event/banko-i-dalby-forsamlingshus/2026-07-27/
LOCATION:Dalby Forsamlingshus\, Karisevej 66\, Dalby\, 4690
CATEGORIES:Banko
ATTACH;FMTTYPE=image/png:https://lokalavisenfaxe.dk/wp-content/uploads/2026/01/Skaermbillede-2026-01-13-100814.png
END:VEVENT
BEGIN:VEVENT
DTSTART;TZID=Europe/Copenhagen:20260803T190000
DTEND;TZID=Europe/Copenhagen:20260803T213000
DTSTAMP:20260424T225505
CREATED:20260113T091345Z
LAST-MODIFIED:20260113T105342Z
UID:10000852-1785783600-1785792600@lokalavisenfaxe.dk
SUMMARY:Banko i Dalby Forsamlingshus
DESCRIPTION:Hver mandag klokken 19 \nBanko i Dalby Forsamlingshus \nDørene åbner klokken 17.30 \n\nDer kan købes drikkevarer og noget “let” at spise.\n\nDer betales med kontanter.\n\nMan kan bestille bord ved sms på 2010 8637
URL:https://lokalavisenfaxe.dk/event/banko-i-dalby-forsamlingshus/2026-08-03/
LOCATION:Dalby Forsamlingshus\, Karisevej 66\, Dalby\, 4690
CATEGORIES:Banko
ATTACH;FMTTYPE=image/png:https://lokalavisenfaxe.dk/wp-content/uploads/2026/01/Skaermbillede-2026-01-13-100814.png
END:VEVENT
BEGIN:VEVENT
DTSTART;TZID=Europe/Copenhagen:20260810T190000
DTEND;TZID=Europe/Copenhagen:20260810T213000
DTSTAMP:20260424T225505
CREATED:20260113T091345Z
LAST-MODIFIED:20260113T105342Z
UID:10000853-1786388400-1786397400@lokalavisenfaxe.dk
SUMMARY:Banko i Dalby Forsamlingshus
DESCRIPTION:Hver mandag klokken 19 \nBanko i Dalby Forsamlingshus \nDørene åbner klokken 17.30 \n\nDer kan købes drikkevarer og noget “let” at spise.\n\nDer betales med kontanter.\n\nMan kan bestille bord ved sms på 2010 8637
URL:https://lokalavisenfaxe.dk/event/banko-i-dalby-forsamlingshus/2026-08-10/
LOCATION:Dalby Forsamlingshus\, Karisevej 66\, Dalby\, 4690
CATEGORIES:Banko
ATTACH;FMTTYPE=image/png:https://lokalavisenfaxe.dk/wp-content/uploads/2026/01/Skaermbillede-2026-01-13-100814.png
END:VEVENT
BEGIN:VEVENT
DTSTART;TZID=Europe/Copenhagen:20260817T190000
DTEND;TZID=Europe/Copenhagen:20260817T213000
DTSTAMP:20260424T225505
CREATED:20260113T091345Z
LAST-MODIFIED:20260113T105342Z
UID:10000854-1786993200-1787002200@lokalavisenfaxe.dk
SUMMARY:Banko i Dalby Forsamlingshus
DESCRIPTION:Hver mandag klokken 19 \nBanko i Dalby Forsamlingshus \nDørene åbner klokken 17.30 \n\nDer kan købes drikkevarer og noget “let” at spise.\n\nDer betales med kontanter.\n\nMan kan bestille bord ved sms på 2010 8637
URL:https://lokalavisenfaxe.dk/event/banko-i-dalby-forsamlingshus/2026-08-17/
LOCATION:Dalby Forsamlingshus\, Karisevej 66\, Dalby\, 4690
CATEGORIES:Banko
ATTACH;FMTTYPE=image/png:https://lokalavisenfaxe.dk/wp-content/uploads/2026/01/Skaermbillede-2026-01-13-100814.png
END:VEVENT
BEGIN:VEVENT
DTSTART;TZID=Europe/Copenhagen:20260824T190000
DTEND;TZID=Europe/Copenhagen:20260824T213000
DTSTAMP:20260424T225505
CREATED:20260113T091345Z
LAST-MODIFIED:20260113T105342Z
UID:10000855-1787598000-1787607000@lokalavisenfaxe.dk
SUMMARY:Banko i Dalby Forsamlingshus
DESCRIPTION:Hver mandag klokken 19 \nBanko i Dalby Forsamlingshus \nDørene åbner klokken 17.30 \n\nDer kan købes drikkevarer og noget “let” at spise.\n\nDer betales med kontanter.\n\nMan kan bestille bord ved sms på 2010 8637
URL:https://lokalavisenfaxe.dk/event/banko-i-dalby-forsamlingshus/2026-08-24/
LOCATION:Dalby Forsamlingshus\, Karisevej 66\, Dalby\, 4690
CATEGORIES:Banko
ATTACH;FMTTYPE=image/png:https://lokalavisenfaxe.dk/wp-content/uploads/2026/01/Skaermbillede-2026-01-13-100814.png
END:VEVENT
BEGIN:VEVENT
DTSTART;TZID=Europe/Copenhagen:20260831T190000
DTEND;TZID=Europe/Copenhagen:20260831T213000
DTSTAMP:20260424T225505
CREATED:20260113T091345Z
LAST-MODIFIED:20260113T105342Z
UID:10000856-1788202800-1788211800@lokalavisenfaxe.dk
SUMMARY:Banko i Dalby Forsamlingshus
DESCRIPTION:Hver mandag klokken 19 \nBanko i Dalby Forsamlingshus \nDørene åbner klokken 17.30 \n\nDer kan købes drikkevarer og noget “let” at spise.\n\nDer betales med kontanter.\n\nMan kan bestille bord ved sms på 2010 8637
URL:https://lokalavisenfaxe.dk/event/banko-i-dalby-forsamlingshus/2026-08-31/
LOCATION:Dalby Forsamlingshus\, Karisevej 66\, Dalby\, 4690
CATEGORIES:Banko
ATTACH;FMTTYPE=image/png:https://lokalavisenfaxe.dk/wp-content/uploads/2026/01/Skaermbillede-2026-01-13-100814.png
END:VEVENT
BEGIN:VEVENT
DTSTART;TZID=Europe/Copenhagen:20260907T190000
DTEND;TZID=Europe/Copenhagen:20260907T213000
DTSTAMP:20260424T225505
CREATED:20260113T091345Z
LAST-MODIFIED:20260113T105342Z
UID:10000857-1788807600-1788816600@lokalavisenfaxe.dk
SUMMARY:Banko i Dalby Forsamlingshus
DESCRIPTION:Hver mandag klokken 19 \nBanko i Dalby Forsamlingshus \nDørene åbner klokken 17.30 \n\nDer kan købes drikkevarer og noget “let” at spise.\n\nDer betales med kontanter.\n\nMan kan bestille bord ved sms på 2010 8637
URL:https://lokalavisenfaxe.dk/event/banko-i-dalby-forsamlingshus/2026-09-07/
LOCATION:Dalby Forsamlingshus\, Karisevej 66\, Dalby\, 4690
CATEGORIES:Banko
ATTACH;FMTTYPE=image/png:https://lokalavisenfaxe.dk/wp-content/uploads/2026/01/Skaermbillede-2026-01-13-100814.png
END:VEVENT
BEGIN:VEVENT
DTSTART;TZID=Europe/Copenhagen:20260914T190000
DTEND;TZID=Europe/Copenhagen:20260914T213000
DTSTAMP:20260424T225505
CREATED:20260113T091345Z
LAST-MODIFIED:20260113T105342Z
UID:10000858-1789412400-1789421400@lokalavisenfaxe.dk
SUMMARY:Banko i Dalby Forsamlingshus
DESCRIPTION:Hver mandag klokken 19 \nBanko i Dalby Forsamlingshus \nDørene åbner klokken 17.30 \n\nDer kan købes drikkevarer og noget “let” at spise.\n\nDer betales med kontanter.\n\nMan kan bestille bord ved sms på 2010 8637
URL:https://lokalavisenfaxe.dk/event/banko-i-dalby-forsamlingshus/2026-09-14/
LOCATION:Dalby Forsamlingshus\, Karisevej 66\, Dalby\, 4690
CATEGORIES:Banko
ATTACH;FMTTYPE=image/png:https://lokalavisenfaxe.dk/wp-content/uploads/2026/01/Skaermbillede-2026-01-13-100814.png
END:VEVENT
BEGIN:VEVENT
DTSTART;TZID=Europe/Copenhagen:20260921T190000
DTEND;TZID=Europe/Copenhagen:20260921T213000
DTSTAMP:20260424T225505
CREATED:20260113T091345Z
LAST-MODIFIED:20260113T105342Z
UID:10000859-1790017200-1790026200@lokalavisenfaxe.dk
SUMMARY:Banko i Dalby Forsamlingshus
DESCRIPTION:Hver mandag klokken 19 \nBanko i Dalby Forsamlingshus \nDørene åbner klokken 17.30 \n\nDer kan købes drikkevarer og noget “let” at spise.\n\nDer betales med kontanter.\n\nMan kan bestille bord ved sms på 2010 8637
URL:https://lokalavisenfaxe.dk/event/banko-i-dalby-forsamlingshus/2026-09-21/
LOCATION:Dalby Forsamlingshus\, Karisevej 66\, Dalby\, 4690
CATEGORIES:Banko
ATTACH;FMTTYPE=image/png:https://lokalavisenfaxe.dk/wp-content/uploads/2026/01/Skaermbillede-2026-01-13-100814.png
END:VEVENT
BEGIN:VEVENT
DTSTART;TZID=Europe/Copenhagen:20260928T190000
DTEND;TZID=Europe/Copenhagen:20260928T213000
DTSTAMP:20260424T225505
CREATED:20260113T091345Z
LAST-MODIFIED:20260113T105342Z
UID:10000860-1790622000-1790631000@lokalavisenfaxe.dk
SUMMARY:Banko i Dalby Forsamlingshus
DESCRIPTION:Hver mandag klokken 19 \nBanko i Dalby Forsamlingshus \nDørene åbner klokken 17.30 \n\nDer kan købes drikkevarer og noget “let” at spise.\n\nDer betales med kontanter.\n\nMan kan bestille bord ved sms på 2010 8637
URL:https://lokalavisenfaxe.dk/event/banko-i-dalby-forsamlingshus/2026-09-28/
LOCATION:Dalby Forsamlingshus\, Karisevej 66\, Dalby\, 4690
CATEGORIES:Banko
ATTACH;FMTTYPE=image/png:https://lokalavisenfaxe.dk/wp-content/uploads/2026/01/Skaermbillede-2026-01-13-100814.png
END:VEVENT
BEGIN:VEVENT
DTSTART;TZID=Europe/Copenhagen:20261005T190000
DTEND;TZID=Europe/Copenhagen:20261005T213000
DTSTAMP:20260424T225505
CREATED:20260113T091345Z
LAST-MODIFIED:20260113T105342Z
UID:10000861-1791226800-1791235800@lokalavisenfaxe.dk
SUMMARY:Banko i Dalby Forsamlingshus
DESCRIPTION:Hver mandag klokken 19 \nBanko i Dalby Forsamlingshus \nDørene åbner klokken 17.30 \n\nDer kan købes drikkevarer og noget “let” at spise.\n\nDer betales med kontanter.\n\nMan kan bestille bord ved sms på 2010 8637
URL:https://lokalavisenfaxe.dk/event/banko-i-dalby-forsamlingshus/2026-10-05/
LOCATION:Dalby Forsamlingshus\, Karisevej 66\, Dalby\, 4690
CATEGORIES:Banko
ATTACH;FMTTYPE=image/png:https://lokalavisenfaxe.dk/wp-content/uploads/2026/01/Skaermbillede-2026-01-13-100814.png
END:VEVENT
BEGIN:VEVENT
DTSTART;TZID=Europe/Copenhagen:20261012T190000
DTEND;TZID=Europe/Copenhagen:20261012T213000
DTSTAMP:20260424T225505
CREATED:20260113T091345Z
LAST-MODIFIED:20260113T105342Z
UID:10000862-1791831600-1791840600@lokalavisenfaxe.dk
SUMMARY:Banko i Dalby Forsamlingshus
DESCRIPTION:Hver mandag klokken 19 \nBanko i Dalby Forsamlingshus \nDørene åbner klokken 17.30 \n\nDer kan købes drikkevarer og noget “let” at spise.\n\nDer betales med kontanter.\n\nMan kan bestille bord ved sms på 2010 8637
URL:https://lokalavisenfaxe.dk/event/banko-i-dalby-forsamlingshus/2026-10-12/
LOCATION:Dalby Forsamlingshus\, Karisevej 66\, Dalby\, 4690
CATEGORIES:Banko
ATTACH;FMTTYPE=image/png:https://lokalavisenfaxe.dk/wp-content/uploads/2026/01/Skaermbillede-2026-01-13-100814.png
END:VEVENT
BEGIN:VEVENT
DTSTART;TZID=Europe/Copenhagen:20261019T190000
DTEND;TZID=Europe/Copenhagen:20261019T213000
DTSTAMP:20260424T225505
CREATED:20260113T091345Z
LAST-MODIFIED:20260113T105342Z
UID:10000863-1792436400-1792445400@lokalavisenfaxe.dk
SUMMARY:Banko i Dalby Forsamlingshus
DESCRIPTION:Hver mandag klokken 19 \nBanko i Dalby Forsamlingshus \nDørene åbner klokken 17.30 \n\nDer kan købes drikkevarer og noget “let” at spise.\n\nDer betales med kontanter.\n\nMan kan bestille bord ved sms på 2010 8637
URL:https://lokalavisenfaxe.dk/event/banko-i-dalby-forsamlingshus/2026-10-19/
LOCATION:Dalby Forsamlingshus\, Karisevej 66\, Dalby\, 4690
CATEGORIES:Banko
ATTACH;FMTTYPE=image/png:https://lokalavisenfaxe.dk/wp-content/uploads/2026/01/Skaermbillede-2026-01-13-100814.png
END:VEVENT
BEGIN:VEVENT
DTSTART;TZID=Europe/Copenhagen:20261026T190000
DTEND;TZID=Europe/Copenhagen:20261026T213000
DTSTAMP:20260424T225505
CREATED:20260113T091345Z
LAST-MODIFIED:20260113T105342Z
UID:10000864-1793041200-1793050200@lokalavisenfaxe.dk
SUMMARY:Banko i Dalby Forsamlingshus
DESCRIPTION:Hver mandag klokken 19 \nBanko i Dalby Forsamlingshus \nDørene åbner klokken 17.30 \n\nDer kan købes drikkevarer og noget “let” at spise.\n\nDer betales med kontanter.\n\nMan kan bestille bord ved sms på 2010 8637
URL:https://lokalavisenfaxe.dk/event/banko-i-dalby-forsamlingshus/2026-10-26/
LOCATION:Dalby Forsamlingshus\, Karisevej 66\, Dalby\, 4690
CATEGORIES:Banko
ATTACH;FMTTYPE=image/png:https://lokalavisenfaxe.dk/wp-content/uploads/2026/01/Skaermbillede-2026-01-13-100814.png
END:VEVENT
BEGIN:VEVENT
DTSTART;TZID=Europe/Copenhagen:20261102T190000
DTEND;TZID=Europe/Copenhagen:20261102T213000
DTSTAMP:20260424T225505
CREATED:20260113T091345Z
LAST-MODIFIED:20260113T105342Z
UID:10000865-1793646000-1793655000@lokalavisenfaxe.dk
SUMMARY:Banko i Dalby Forsamlingshus
DESCRIPTION:Hver mandag klokken 19 \nBanko i Dalby Forsamlingshus \nDørene åbner klokken 17.30 \n\nDer kan købes drikkevarer og noget “let” at spise.\n\nDer betales med kontanter.\n\nMan kan bestille bord ved sms på 2010 8637
URL:https://lokalavisenfaxe.dk/event/banko-i-dalby-forsamlingshus/2026-11-02/
LOCATION:Dalby Forsamlingshus\, Karisevej 66\, Dalby\, 4690
CATEGORIES:Banko
ATTACH;FMTTYPE=image/png:https://lokalavisenfaxe.dk/wp-content/uploads/2026/01/Skaermbillede-2026-01-13-100814.png
END:VEVENT
BEGIN:VEVENT
DTSTART;TZID=Europe/Copenhagen:20261109T190000
DTEND;TZID=Europe/Copenhagen:20261109T213000
DTSTAMP:20260424T225505
CREATED:20260113T091345Z
LAST-MODIFIED:20260113T105342Z
UID:10000866-1794250800-1794259800@lokalavisenfaxe.dk
SUMMARY:Banko i Dalby Forsamlingshus
DESCRIPTION:Hver mandag klokken 19 \nBanko i Dalby Forsamlingshus \nDørene åbner klokken 17.30 \n\nDer kan købes drikkevarer og noget “let” at spise.\n\nDer betales med kontanter.\n\nMan kan bestille bord ved sms på 2010 8637
URL:https://lokalavisenfaxe.dk/event/banko-i-dalby-forsamlingshus/2026-11-09/
LOCATION:Dalby Forsamlingshus\, Karisevej 66\, Dalby\, 4690
CATEGORIES:Banko
ATTACH;FMTTYPE=image/png:https://lokalavisenfaxe.dk/wp-content/uploads/2026/01/Skaermbillede-2026-01-13-100814.png
END:VEVENT
BEGIN:VEVENT
DTSTART;TZID=Europe/Copenhagen:20261116T190000
DTEND;TZID=Europe/Copenhagen:20261116T213000
DTSTAMP:20260424T225505
CREATED:20260113T091345Z
LAST-MODIFIED:20260113T105342Z
UID:10000867-1794855600-1794864600@lokalavisenfaxe.dk
SUMMARY:Banko i Dalby Forsamlingshus
DESCRIPTION:Hver mandag klokken 19 \nBanko i Dalby Forsamlingshus \nDørene åbner klokken 17.30 \n\nDer kan købes drikkevarer og noget “let” at spise.\n\nDer betales med kontanter.\n\nMan kan bestille bord ved sms på 2010 8637
URL:https://lokalavisenfaxe.dk/event/banko-i-dalby-forsamlingshus/2026-11-16/
LOCATION:Dalby Forsamlingshus\, Karisevej 66\, Dalby\, 4690
CATEGORIES:Banko
ATTACH;FMTTYPE=image/png:https://lokalavisenfaxe.dk/wp-content/uploads/2026/01/Skaermbillede-2026-01-13-100814.png
END:VEVENT
END:VCALENDAR